BEGIN:VCALENDAR
VERSION:2.0
PRODID:-//hacksw/handcal//NONSGML v1.0//EN
BEGIN:VEVENT
SUMMARY:Ultimate excellence minimes
UID:846ea929-72b5-4cb1-b799-f8a76e297b4d
DTSTART:20260429T053000Z
DTEND:20260429T193000Z
LOCATION:Localisation Stade  La roche sur yon
CATEGORIES:Sportif
STATUS:
DESCRIPTION:<p>Qualification de l'equipe 1 excellence pour les inter
 academiques qui auront lieu cette annee a la Roche-sur-Yon. Cette
 journee est qualificative pour les championnats de France. Horaires
 de depart et de retour a confirmer.</p>
URL;VALUE=URI:https://aspredesrois.sportsregions.fr/evenements/2026/04/29/ultimate-excellence-minimes-2438150
END:VEVENT
END:VCALENDAR
