BEGIN:VCALENDAR
VERSION:2.0
PRODID:-//hacksw/handcal//NONSGML v1.0//EN
BEGIN:VEVENT
SUMMARY:Departementaux de gymnastique
UID:3dffd201-364b-409e-a605-ce6428d9bb90
DTSTART:20260401T063000Z
DTEND:20260401T160000Z
LOCATION:Localisation   
CATEGORIES:Sportif
STATUS:
URL;VALUE=URI:https://aspredesrois.sportsregions.fr/evenements/2026/04/01/departementaux-de-gymnastique-2438149
END:VEVENT
END:VCALENDAR
