BEGIN:VCALENDAR
VERSION:2.0
PRODID:-//hacksw/handcal//NONSGML v1.0//EN
BEGIN:VEVENT
SUMMARY:Championnat academique ultimate
UID:6ace6aa2-2529-4f72-b9a2-a9d98406d689
DTSTART:20260401T063000Z
DTEND:20260401T161500Z
LOCATION:Localisation Stade  Mer
CATEGORIES:Sportif
STATUS:
URL;VALUE=URI:https://aspredesrois.sportsregions.fr/evenements/2026/04/01/championnat-academique-ultimate-2437809
END:VEVENT
END:VCALENDAR
